BEGIN:VCALENDAR
VERSION:2.0
PRODID:SchoolNow
CALSCALE:GREGORIAN
BEGIN:VEVENT
UID:70fb1ffc-5dcd-11f0-b2ed-0a58a9feac02
DTSTAMP:20251216T214612Z
SUMMARY:Grade 4 Trip
URL;VALUE=URI:https://www.northhamptonschool.nh.gov/calendar/8402944/grade-
 4-trip
DTSTART:20250926T123000Z
DTEND:20250926T183000Z
END:VEVENT
END:VCALENDAR
