BEGIN:VCALENDAR
VERSION:2.0
PRODID:SchoolNow
CALSCALE:GREGORIAN
BEGIN:VEVENT
UID:70fb2100-5dcd-11f0-b9e8-0a58a9feac02
DTSTAMP:20251216T214612Z
SUMMARY:FIeld Trip Grade 4
URL;VALUE=URI:https://www.northhamptonschool.nh.gov/calendar/8402946/field-
 trip-grade-4
DTSTART:20251024T130000Z
DTEND:20251024T170000Z
END:VEVENT
END:VCALENDAR
