BEGIN:VCALENDAR
VERSION:2.0
PRODID:SchoolNow
CALSCALE:GREGORIAN
BEGIN:VEVENT
UID:0b3a8688-794a-11f0-bb57-0a58a9feac02
DTSTAMP:20251216T214612Z
SUMMARY:Grade 5 & 6 Spring Concert
LOCATION:Cafeteria/Stage
URL;VALUE=URI:https://www.northhamptonschool.nh.gov/calendar/8508190/grade-
 5-6-spring-concert
DTSTART:20260601T220000Z
DTEND:20260601T233000Z
END:VEVENT
END:VCALENDAR
