BEGIN:VCALENDAR
VERSION:2.0
PRODID:SchoolNow
CALSCALE:GREGORIAN
BEGIN:VEVENT
UID:ff7275fa-7a15-11f0-ba97-0a58a9feac02
DTSTAMP:20251216T214612Z
SUMMARY:Grade 7 & 8 Band and Chorus Concert
LOCATION:cafeteria/stage
URL;VALUE=URI:https://www.northhamptonschool.nh.gov/calendar/8511210/grade-
 7-8-band-and-chorus-concert
DTSTART:20260603T220000Z
DTEND:20260603T233000Z
END:VEVENT
END:VCALENDAR
