BEGIN:VCALENDAR
VERSION:2.0
PRODID:SchoolNow
CALSCALE:GREGORIAN
BEGIN:VEVENT
UID:d878c8fa-7d12-11f0-a00c-0e683765d025
DTSTAMP:20251216T214612Z
SUMMARY:First Staff Meeting
URL;VALUE=URI:https://www.northhamptonschool.nh.gov/calendar/8521512/first-
 staff-meeting
DTSTART:20250821T120000Z
DTEND:20250821T133000Z
END:VEVENT
END:VCALENDAR
