BEGIN:VCALENDAR
VERSION:2.0
PRODID:SchoolNow
CALSCALE:GREGORIAN
BEGIN:VEVENT
UID:c6f3ec4c-7eaa-11f0-8e1e-0a58a9feac02
DTSTAMP:20251216T214612Z
SUMMARY:PS First day
URL;VALUE=URI:https://www.northhamptonschool.nh.gov/calendar/8528491/ps-fir
 st-day
DTSTART;VALUE=DATE:20250902
DTEND;VALUE=DATE:20250903
END:VEVENT
END:VCALENDAR
