BEGIN:VCALENDAR
VERSION:2.0
PRODID:SchoolNow
CALSCALE:GREGORIAN
BEGIN:VEVENT
UID:b50ce25e-7fa9-11f0-9f3c-0affceaa1a45
DTSTAMP:20251216T214612Z
SUMMARY:First Day of School Assembly
URL;VALUE=URI:https://www.northhamptonschool.nh.gov/calendar/8533829/first-
 day-of-school-assembly
DTSTART:20250826T180000Z
DTEND:20250826T183000Z
END:VEVENT
END:VCALENDAR
