BEGIN:VCALENDAR
VERSION:2.0
PRODID:SchoolNow
CALSCALE:GREGORIAN
BEGIN:VEVENT
UID:fde9b45c-81d9-11f0-8cd3-0a58a9feac02
DTSTAMP:20251216T214612Z
SUMMARY:7th & 8th Chorus Band Concert SNOW DATE
URL;VALUE=URI:https://www.northhamptonschool.nh.gov/calendar/8541334/7th-8t
 h-chorus-band-concert-snow-date
DTSTART:20251222T230000Z
DTEND:20251223T003000Z
END:VEVENT
END:VCALENDAR
