BEGIN:VCALENDAR
VERSION:2.0
PRODID:SchoolNow
CALSCALE:GREGORIAN
BEGIN:VEVENT
UID:fde9d392-81d9-11f0-80b9-0a58a9feac02
DTSTAMP:20251216T214612Z
SUMMARY:5th  & 6th Grade Chorus/Band Concert
URL;VALUE=URI:https://www.northhamptonschool.nh.gov/calendar/8541335/5th-6t
 h-grade-chorus-band-concert
DTSTART:20251216T230000Z
DTEND:20251217T003000Z
END:VEVENT
END:VCALENDAR
