BEGIN:VCALENDAR
VERSION:2.0
PRODID:SchoolNow
CALSCALE:GREGORIAN
BEGIN:VEVENT
UID:fde9d52c-81d9-11f0-b53c-0a58a9feac02
DTSTAMP:20251216T214612Z
SUMMARY:5th & 6th Grade Chorus Concert SNOW DATE
URL;VALUE=URI:https://www.northhamptonschool.nh.gov/calendar/8541336/5th-6t
 h-grade-chorus-concert-snow-date
DTSTART:20251217T230000Z
DTEND:20251218T000000Z
END:VEVENT
END:VCALENDAR
