BEGIN:VCALENDAR
VERSION:2.0
PRODID:SchoolNow
CALSCALE:GREGORIAN
BEGIN:VEVENT
UID:fde9d64e-81d9-11f0-8b0b-0a58a9feac02
DTSTAMP:20251216T214612Z
SUMMARY:7th & 8th Grade Band/Chorus Concert
URL;VALUE=URI:https://www.northhamptonschool.nh.gov/calendar/8541337/7th-8t
 h-grade-band-chorus-concert
DTSTART:20251218T230000Z
DTEND:20251219T003000Z
END:VEVENT
END:VCALENDAR
