BEGIN:VCALENDAR
VERSION:2.0
PRODID:SchoolNow
CALSCALE:GREGORIAN
BEGIN:VEVENT
UID:e250ab1c-8272-11f0-b4f0-0a58a9feac02
DTSTAMP:20251216T214612Z
SUMMARY:Trunk or Treat
URL;VALUE=URI:https://www.northhamptonschool.nh.gov/calendar/8544715/trunk-
 or-treat
DTSTART:20251026T183000Z
DTEND:20251026T210000Z
END:VEVENT
END:VCALENDAR
