BEGIN:VCALENDAR
VERSION:2.0
PRODID:SchoolNow
CALSCALE:GREGORIAN
BEGIN:VEVENT
UID:e0d791c8-82a5-11f0-b6bc-0a58a9feac02
DTSTAMP:20251216T214612Z
SUMMARY:Mad Scientist P & R Art room
URL;VALUE=URI:https://www.northhamptonschool.nh.gov/calendar/8545867/mad-sc
 ientist-p-r-art-room
DTSTART:20251002T190000Z
DTEND:20251002T200000Z
END:VEVENT
END:VCALENDAR
