BEGIN:VCALENDAR
VERSION:2.0
PRODID:SchoolNow
CALSCALE:GREGORIAN
BEGIN:VEVENT
UID:e0d79678-82a5-11f0-bd7e-0a58a9feac02
DTSTAMP:20251216T214612Z
SUMMARY:Mad Scientist P & R Art Room
URL;VALUE=URI:https://www.northhamptonschool.nh.gov/calendar/8545869/mad-sc
 ientist-p-r-art-room
DTSTART:20251016T190000Z
DTEND:20251016T200000Z
END:VEVENT
END:VCALENDAR
