BEGIN:VCALENDAR
VERSION:2.0
PRODID:SchoolNow
CALSCALE:GREGORIAN
BEGIN:VEVENT
UID:e0d79790-82a5-11f0-9ca2-0a58a9feac02
DTSTAMP:20251216T214612Z
SUMMARY:Mad Scientist Art Room P & R
URL;VALUE=URI:https://www.northhamptonschool.nh.gov/calendar/8545870/mad-sc
 ientist-art-room-p-r
DTSTART:20251027T190000Z
DTEND:20251027T200000Z
END:VEVENT
END:VCALENDAR
