BEGIN:VCALENDAR
VERSION:2.0
PRODID:SchoolNow
CALSCALE:GREGORIAN
BEGIN:VEVENT
UID:9209873e-8905-11f0-aaab-0affd6bcc1d3
DTSTAMP:20251216T214612Z
SUMMARY:Student Govt Field Trip
URL;VALUE=URI:https://www.northhamptonschool.nh.gov/calendar/8575829/studen
 t-govt-field-trip
DTSTART:20251016T121500Z
DTEND:20251016T191500Z
END:VEVENT
END:VCALENDAR
