BEGIN:VCALENDAR
VERSION:2.0
PRODID:SchoolNow
CALSCALE:GREGORIAN
BEGIN:VEVENT
UID:8b53dff4-899e-11f0-a19e-02cd4c239dab
DTSTAMP:20251216T214612Z
SUMMARY:Grade 5 Trip
URL;VALUE=URI:https://www.northhamptonschool.nh.gov/calendar/8578536/grade-
 5-trip
DTSTART:20250925T123000Z
DTEND:20250925T200000Z
END:VEVENT
END:VCALENDAR
