BEGIN:VCALENDAR
VERSION:2.0
PRODID:SchoolNow
CALSCALE:GREGORIAN
BEGIN:VEVENT
UID:5d44785c-8cce-11f0-a98f-0a58a9feac02
DTSTAMP:20251216T214612Z
SUMMARY:First Grade Field Trip
URL;VALUE=URI:https://www.northhamptonschool.nh.gov/calendar/8594937/first-
 grade-field-trip
DTSTART:20250926T131500Z
DTEND:20250926T164500Z
END:VEVENT
END:VCALENDAR
