BEGIN:VCALENDAR
VERSION:2.0
PRODID:SchoolNow
CALSCALE:GREGORIAN
BEGIN:VEVENT
UID:5d447d16-8cce-11f0-bfbb-0a58a9feac02
DTSTAMP:20251216T214612Z
SUMMARY:Grade 5 Field Trip
URL;VALUE=URI:https://www.northhamptonschool.nh.gov/calendar/8594938/grade-
 5-field-trip
DTSTART:20251007T125000Z
DTEND:20251007T153000Z
END:VEVENT
END:VCALENDAR
