BEGIN:VCALENDAR
VERSION:2.0
PRODID:SchoolNow
CALSCALE:GREGORIAN
BEGIN:VEVENT
UID:59bf9d8c-8d01-11f0-9cef-0a58a9feac02
DTSTAMP:20251216T214612Z
SUMMARY:Talent Show Practice
URL;VALUE=URI:https://www.northhamptonschool.nh.gov/calendar/8596580/talent
 -show-practice
DTSTART:20251106T200000Z
DTEND:20251106T213000Z
END:VEVENT
END:VCALENDAR
