BEGIN:VCALENDAR
VERSION:2.0
PRODID:SchoolNow
CALSCALE:GREGORIAN
BEGIN:VEVENT
UID:59bfa14c-8d01-11f0-b067-0a58a9feac02
DTSTAMP:20251216T214612Z
SUMMARY:NHS Talent Show
URL;VALUE=URI:https://www.northhamptonschool.nh.gov/calendar/8596581/nhs-ta
 lent-show
DTSTART:20251120T230000Z
DTEND:20251121T003000Z
END:VEVENT
END:VCALENDAR
