BEGIN:VCALENDAR
VERSION:2.0
PRODID:SchoolNow
CALSCALE:GREGORIAN
BEGIN:VEVENT
UID:59bfa32c-8d01-11f0-833e-0a58a9feac02
DTSTAMP:20251216T214612Z
SUMMARY:Grade 7/8 Spring Band and Chorus Concert
LOCATION:cafe
URL;VALUE=URI:https://www.northhamptonschool.nh.gov/calendar/8596582/grade-
 7-8-spring-band-and-chorus-concert
DTSTART:20260608T220000Z
DTEND:20260608T233000Z
END:VEVENT
END:VCALENDAR
