BEGIN:VCALENDAR
VERSION:2.0
PRODID:SchoolNow
CALSCALE:GREGORIAN
BEGIN:VEVENT
UID:36dd2602-8f65-11f0-a362-0a58a9feac02
DTSTAMP:20251216T214612Z
SUMMARY:NHS Musical
URL;VALUE=URI:https://www.northhamptonschool.nh.gov/calendar/8610717/nhs-mu
 sical
DTSTART:20260327T220000Z
DTEND:20260327T233000Z
END:VEVENT
END:VCALENDAR
