BEGIN:VCALENDAR
VERSION:2.0
PRODID:SchoolNow
CALSCALE:GREGORIAN
BEGIN:VEVENT
UID:36dd2756-8f65-11f0-b407-0a58a9feac02
DTSTAMP:20251216T214612Z
SUMMARY:NHS Musical
URL;VALUE=URI:https://www.northhamptonschool.nh.gov/calendar/8610718/nhs-mu
 sical
DTSTART:20260328T180000Z
DTEND:20260328T193000Z
END:VEVENT
END:VCALENDAR
