BEGIN:VCALENDAR
VERSION:2.0
PRODID:SchoolNow
CALSCALE:GREGORIAN
BEGIN:VEVENT
UID:19fdde38-922f-11f0-9278-0a58a9feac02
DTSTAMP:20251216T214612Z
SUMMARY:Constitution Day Assembly Cafeteria (students only)
URL;VALUE=URI:https://www.northhamptonschool.nh.gov/calendar/8623687/consti
 tution-day-assembly-cafeteria-students-only
DTSTART:20250917T124000Z
DTEND:20250917T130000Z
END:VEVENT
END:VCALENDAR
