BEGIN:VCALENDAR
VERSION:2.0
PRODID:SchoolNow
CALSCALE:GREGORIAN
BEGIN:VEVENT
UID:1992280e-9262-11f0-a673-0a58a9feac02
DTSTAMP:20251216T214612Z
SUMMARY:Harvest Fest PAL
URL;VALUE=URI:https://www.northhamptonschool.nh.gov/calendar/8624971/harves
 t-fest-pal
DTSTART:20250927T180000Z
DTEND:20250927T200000Z
END:VEVENT
END:VCALENDAR
