BEGIN:VCALENDAR
VERSION:2.0
PRODID:SchoolNow
CALSCALE:GREGORIAN
BEGIN:VEVENT
UID:19922dcc-9262-11f0-a12c-0a58a9feac02
DTSTAMP:20251216T214612Z
SUMMARY:Spelling Bee
URL;VALUE=URI:https://www.northhamptonschool.nh.gov/calendar/8624972/spelli
 ng-bee
DTSTART:20260127T223000Z
DTEND:20260128T000000Z
END:VEVENT
END:VCALENDAR
