BEGIN:VCALENDAR
VERSION:2.0
PRODID:SchoolNow
CALSCALE:GREGORIAN
BEGIN:VEVENT
UID:19922f98-9262-11f0-a6d7-0a58a9feac02
DTSTAMP:20251216T214612Z
SUMMARY:Spelling Bee Snow Date
URL;VALUE=URI:https://www.northhamptonschool.nh.gov/calendar/8624973/spelli
 ng-bee-snow-date
DTSTART:20260128T223000Z
DTEND:20260129T000000Z
END:VEVENT
END:VCALENDAR
