BEGIN:VCALENDAR
VERSION:2.0
PRODID:SchoolNow
CALSCALE:GREGORIAN
BEGIN:VEVENT
UID:0ea41cfa-932e-11f0-b008-0e6874805899
DTSTAMP:20251216T214612Z
SUMMARY:Bus Emergency Evacuation Date
URL;VALUE=URI:https://www.northhamptonschool.nh.gov/calendar/8629243/bus-em
 ergency-evacuation-date
DTSTART:20250926T121500Z
DTEND:20250926T123000Z
END:VEVENT
END:VCALENDAR
