BEGIN:VCALENDAR
VERSION:2.0
PRODID:SchoolNow
CALSCALE:GREGORIAN
BEGIN:VEVENT
UID:f91b7664-94c5-11f0-8bf2-0a58a9feac02
DTSTAMP:20251216T214612Z
SUMMARY:Grade 2 Field Trip
URL;VALUE=URI:https://www.northhamptonschool.nh.gov/calendar/8638272/grade-
 2-field-trip
DTSTART:20251017T124500Z
DTEND:20251017T170000Z
END:VEVENT
END:VCALENDAR
