BEGIN:VCALENDAR
VERSION:2.0
PRODID:SchoolNow
CALSCALE:GREGORIAN
BEGIN:VEVENT
UID:f91b7a2e-94c5-11f0-b48a-0a58a9feac02
DTSTAMP:20251216T214612Z
SUMMARY:Grade 7/8 Field Trip
URL;VALUE=URI:https://www.northhamptonschool.nh.gov/calendar/8638273/grade-
 7-8-field-trip
DTSTART:20250929T135500Z
DTEND:20250929T183000Z
END:VEVENT
END:VCALENDAR
