BEGIN:VCALENDAR
VERSION:2.0
PRODID:SchoolNow
CALSCALE:GREGORIAN
BEGIN:VEVENT
UID:ae902f66-9a26-11f0-b0ac-0a58a9feac02
DTSTAMP:20251216T214612Z
SUMMARY:K Field Trip
URL;VALUE=URI:https://www.northhamptonschool.nh.gov/calendar/8663174/k-fiel
 d-trip
DTSTART:20251218T134500Z
DTEND:20251218T170000Z
END:VEVENT
END:VCALENDAR
