BEGIN:VCALENDAR
VERSION:2.0
PRODID:SchoolNow
CALSCALE:GREGORIAN
BEGIN:VEVENT
UID:ae903d76-9a26-11f0-b235-0a58a9feac02
DTSTAMP:20251216T214612Z
SUMMARY:Spring Musical Auditions 6-8 Chorus Room
URL;VALUE=URI:https://www.northhamptonschool.nh.gov/calendar/8663175/spring
 -musical-auditions-6-8-chorus-room
DTSTART:20260109T200000Z
DTEND:20260109T230000Z
END:VEVENT
END:VCALENDAR
