BEGIN:VCALENDAR
VERSION:2.0
PRODID:SchoolNow
CALSCALE:GREGORIAN
BEGIN:VEVENT
UID:ae904956-9a26-11f0-8680-0a58a9feac02
DTSTAMP:20251216T214612Z
SUMMARY:Spring Musical Callbacks Chorus Room
URL;VALUE=URI:https://www.northhamptonschool.nh.gov/calendar/8663176/spring
 -musical-callbacks-chorus-room
DTSTART:20260115T200000Z
DTEND:20260115T220000Z
END:VEVENT
END:VCALENDAR
