BEGIN:VCALENDAR
VERSION:2.0
PRODID:SchoolNow
CALSCALE:GREGORIAN
BEGIN:VEVENT
UID:7a86cf04-9e22-11f0-812a-0a58a9feac02
DTSTAMP:20251216T214612Z
SUMMARY:School Govt Halloween Dance
URL;VALUE=URI:https://www.northhamptonschool.nh.gov/calendar/8680470/school
 -govt-halloween-dance
DTSTART:20251024T220000Z
DTEND:20251025T000000Z
END:VEVENT
END:VCALENDAR
