BEGIN:VCALENDAR
VERSION:2.0
PRODID:SchoolNow
CALSCALE:GREGORIAN
BEGIN:VEVENT
UID:71bbda28-9eee-11f0-ae79-0a58a9feac02
DTSTAMP:20251216T214612Z
SUMMARY:K Field Trip
URL;VALUE=URI:https://www.northhamptonschool.nh.gov/calendar/8684186/k-fiel
 d-trip
DTSTART:20251028T124500Z
DTEND:20251028T160000Z
END:VEVENT
END:VCALENDAR
