BEGIN:VCALENDAR
VERSION:2.0
PRODID:SchoolNow
CALSCALE:GREGORIAN
BEGIN:VEVENT
UID:71bbdb54-9eee-11f0-ae3f-0a58a9feac02
DTSTAMP:20251216T214612Z
SUMMARY:Grade 5 Field Trip
URL;VALUE=URI:https://www.northhamptonschool.nh.gov/calendar/8684187/grade-
 5-field-trip
DTSTART:20251029T120000Z
DTEND:20251029T194500Z
END:VEVENT
END:VCALENDAR
