BEGIN:VCALENDAR
VERSION:2.0
PRODID:SchoolNow
CALSCALE:GREGORIAN
BEGIN:VEVENT
UID:321662a4-a3b6-11f0-b62b-0239abda656f
DTSTAMP:20251216T214612Z
SUMMARY:Winterfest P & R
URL;VALUE=URI:https://www.northhamptonschool.nh.gov/calendar/8703072/winter
 fest-p-r
DTSTART:20260221T140000Z
DTEND:20260221T190000Z
END:VEVENT
END:VCALENDAR
