BEGIN:VCALENDAR
VERSION:2.0
PRODID:SchoolNow
CALSCALE:GREGORIAN
BEGIN:VEVENT
UID:e776a3b6-a9e2-11f0-a02d-0affdaeadd8d
DTSTAMP:20251216T214612Z
SUMMARY:Grade 7 Field Trip
URL;VALUE=URI:https://www.northhamptonschool.nh.gov/calendar/8724292/grade-
 7-field-trip
DTSTART:20251015T140000Z
DTEND:20251015T180000Z
END:VEVENT
END:VCALENDAR
