BEGIN:VCALENDAR
VERSION:2.0
PRODID:SchoolNow
CALSCALE:GREGORIAN
BEGIN:VEVENT
UID:cdd93c4a-ae90-11f0-b080-0a58a9feac02
DTSTAMP:20251216T214612Z
SUMMARY:Holiday Break
URL;VALUE=URI:https://www.northhamptonschool.nh.gov/calendar/8738238/holida
 y-break
DTSTART;VALUE=DATE:20251224
DTEND;VALUE=DATE:20260103
END:VEVENT
END:VCALENDAR
