BEGIN:VCALENDAR
VERSION:2.0
PRODID:SchoolNow
CALSCALE:GREGORIAN
BEGIN:VEVENT
UID:80b29b26-b4f0-11f0-8cf8-0a58a9feac02
DTSTAMP:20251216T214612Z
SUMMARY:NAEP Testing on site
URL;VALUE=URI:https://www.northhamptonschool.nh.gov/calendar/8759443/naep-t
 esting-on-site
DTSTART:20260209T120000Z
DTEND:20260209T200000Z
END:VEVENT
END:VCALENDAR
