BEGIN:VCALENDAR
VERSION:2.0
PRODID:SchoolNow
CALSCALE:GREGORIAN
BEGIN:VEVENT
UID:5ad4da36-b8ec-11f0-9dca-0a58a9feac02
DTSTAMP:20251216T214612Z
SUMMARY:Geskus Photo Day
URL;VALUE=URI:https://www.northhamptonschool.nh.gov/calendar/8771183/geskus
 -photo-day
DTSTART:20260911T114500Z
DTEND:20260911T151500Z
END:VEVENT
END:VCALENDAR
