BEGIN:VCALENDAR
VERSION:2.0
PRODID:SchoolNow
CALSCALE:GREGORIAN
BEGIN:VEVENT
UID:5ad4e09e-b8ec-11f0-be8c-0a58a9feac02
DTSTAMP:20251216T214612Z
SUMMARY:Geskus re -take photo day
URL;VALUE=URI:https://www.northhamptonschool.nh.gov/calendar/8771184/geskus
 -re-take-photo-day
DTSTART:20261110T124500Z
DTEND:20261110T154500Z
END:VEVENT
END:VCALENDAR
