BEGIN:VCALENDAR
VERSION:2.0
PRODID:SchoolNow
CALSCALE:GREGORIAN
BEGIN:VEVENT
UID:4c948634-b9b8-11f0-8f86-0a58a9feac02
DTSTAMP:20251216T214612Z
SUMMARY:4th Grade selling bags
URL;VALUE=URI:https://www.northhamptonschool.nh.gov/calendar/8776907/4th-gr
 ade-selling-bags
DTSTART:20251120T223000Z
DTEND:20251121T003000Z
END:VEVENT
END:VCALENDAR
