BEGIN:VCALENDAR
VERSION:2.0
PRODID:SchoolNow
CALSCALE:GREGORIAN
BEGIN:VEVENT
UID:29a577c4-be80-11f0-ac15-0afff5cf8413
DTSTAMP:20251216T214612Z
SUMMARY:Grade 3 Field Trip
URL;VALUE=URI:https://www.northhamptonschool.nh.gov/calendar/8788043/grade-
 3-field-trip
DTSTART:20251125T141500Z
DTEND:20251125T174500Z
END:VEVENT
END:VCALENDAR
