BEGIN:VCALENDAR
VERSION:2.0
PRODID:SchoolNow
CALSCALE:GREGORIAN
BEGIN:VEVENT
UID:ed255dee-c0e3-11f0-bd6b-0e331b9224b1
DTSTAMP:20251216T214612Z
SUMMARY:Spelling Bee Practise
URL;VALUE=URI:https://www.northhamptonschool.nh.gov/calendar/8794220/spelli
 ng-bee-practise
DTSTART:20260122T200000Z
DTEND:20260122T204500Z
END:VEVENT
END:VCALENDAR
