BEGIN:VCALENDAR
VERSION:2.0
PRODID:SchoolNow
CALSCALE:GREGORIAN
BEGIN:VEVENT
UID:ed587d8c-c0e3-11f0-9467-0e331b9224b1
DTSTAMP:20251216T214612Z
SUMMARY:Spelling Bee Practise
URL;VALUE=URI:https://www.northhamptonschool.nh.gov/calendar/8794222/spelli
 ng-bee-practise
DTSTART:20260127T200000Z
DTEND:20260127T204500Z
END:VEVENT
END:VCALENDAR
