BEGIN:VCALENDAR
VERSION:2.0
PRODID:SchoolNow
CALSCALE:GREGORIAN
BEGIN:VEVENT
UID:ea81e446-c1af-11f0-b43b-0e11e61b1f39
DTSTAMP:20251216T214612Z
SUMMARY:P & R Vacation Camp
URL;VALUE=URI:https://www.northhamptonschool.nh.gov/calendar/8795995/p-r-va
 cation-camp
DTSTART:20251229T124500Z
DTEND:20251229T211500Z
END:VEVENT
END:VCALENDAR
