BEGIN:VCALENDAR
VERSION:2.0
PRODID:SchoolNow
CALSCALE:GREGORIAN
BEGIN:VEVENT
UID:ea81ea9a-c1af-11f0-93d6-0e11e61b1f39
DTSTAMP:20251216T214612Z
SUMMARY:SCA North Hampton
URL;VALUE=URI:https://www.northhamptonschool.nh.gov/calendar/8795997/sca-no
 rth-hampton
DTSTART:20260330T130000Z
DTEND:20260330T170000Z
END:VEVENT
END:VCALENDAR
