BEGIN:VCALENDAR
VERSION:2.0
PRODID:SchoolNow
CALSCALE:GREGORIAN
BEGIN:VEVENT
UID:ea81eff4-c1af-11f0-9433-0e11e61b1f39
DTSTAMP:20251216T214612Z
SUMMARY:P & R  Vacation Camp
URL;VALUE=URI:https://www.northhamptonschool.nh.gov/calendar/8795998/p-r-va
 cation-camp
DTSTART:20251231T124500Z
DTEND:20251231T211500Z
END:VEVENT
END:VCALENDAR
